BEGIN:VCALENDAR
VERSION:2.0
PRODID:-//ARTS ATL - ECPv6.15.18//NONSGML v1.0//EN
CALSCALE:GREGORIAN
METHOD:PUBLISH
X-ORIGINAL-URL:https://www.artsatl.org
X-WR-CALDESC:Events for ARTS ATL
REFRESH-INTERVAL;VALUE=DURATION:PT1H
X-Robots-Tag:noindex
X-PUBLISHED-TTL:PT1H
BEGIN:VTIMEZONE
TZID:America/New_York
BEGIN:DAYLIGHT
TZOFFSETFROM:-0500
TZOFFSETTO:-0400
TZNAME:EDT
DTSTART:20220313T070000
END:DAYLIGHT
BEGIN:STANDARD
TZOFFSETFROM:-0400
TZOFFSETTO:-0500
TZNAME:EST
DTSTART:20221106T060000
END:STANDARD
BEGIN:DAYLIGHT
TZOFFSETFROM:-0500
TZOFFSETTO:-0400
TZNAME:EDT
DTSTART:20230312T070000
END:DAYLIGHT
BEGIN:STANDARD
TZOFFSETFROM:-0400
TZOFFSETTO:-0500
TZNAME:EST
DTSTART:20231105T060000
END:STANDARD
BEGIN:DAYLIGHT
TZOFFSETFROM:-0500
TZOFFSETTO:-0400
TZNAME:EDT
DTSTART:20240310T070000
END:DAYLIGHT
BEGIN:STANDARD
TZOFFSETFROM:-0400
TZOFFSETTO:-0500
TZNAME:EST
DTSTART:20241103T060000
END:STANDARD
END:VTIMEZONE
BEGIN:VEVENT
DTSTART;VALUE=DATE:20230922
DTEND;VALUE=DATE:20231112
DTSTAMP:20260422T013406
CREATED:20230907T184756Z
LAST-MODIFIED:20230907T184756Z
UID:10035886-1695340800-1699747199@www.artsatl.org
SUMMARY:Netherworld haunted house
DESCRIPTION:The haunting season is near\, and NETHERWORLD Haunted House is eager to unveil the newest haunts for the upcoming 2023 season: PRIMORDIAL and CRYPTID CHAOS. Kicking off the opening weekend on Sept. 22 and Sept. 23\, haunted house guests will encounter intricate sets\, next-level special effects\, and NEW terrifyingly realistic monsters that will be more out of control\, amped up\, and enraged than your fragile mind can comprehend! \nWHEN: \nSept. 22-23 and 29-30\nOct. 1\, 5-8\, 10-15\, 17-31\nNov. 3-5\, 10-11 \nOpen nightly at 7 p.m.\, closing times will vary
URL:https://www.artsatl.org/event/netherworld-haunted-house/
LOCATION:NETHERWORLD\, 1313 Netherworld Way\, Stone Mountain\, GA\, United States
CATEGORIES:Film + TV,Theater
ATTACH;FMTTYPE=image/jpeg:https://www.artsatl.org/wp-content/uploads/48331458231_3bd150dcb5_c.jpg
END:VEVENT
END:VCALENDAR