BEGIN:VCALENDAR
VERSION:2.0
PRODID:-//ARTS ATL - ECPv6.15.18//NONSGML v1.0//EN
CALSCALE:GREGORIAN
METHOD:PUBLISH
X-WR-CALNAME:ARTS ATL
X-ORIGINAL-URL:https://www.artsatl.org
X-WR-CALDESC:Events for ARTS ATL
REFRESH-INTERVAL;VALUE=DURATION:PT1H
X-Robots-Tag:noindex
X-PUBLISHED-TTL:PT1H
BEGIN:VTIMEZONE
TZID:America/New_York
BEGIN:DAYLIGHT
TZOFFSETFROM:-0500
TZOFFSETTO:-0400
TZNAME:EDT
DTSTART:20250309T070000
END:DAYLIGHT
BEGIN:STANDARD
TZOFFSETFROM:-0400
TZOFFSETTO:-0500
TZNAME:EST
DTSTART:20251102T060000
END:STANDARD
BEGIN:DAYLIGHT
TZOFFSETFROM:-0500
TZOFFSETTO:-0400
TZNAME:EDT
DTSTART:20260308T070000
END:DAYLIGHT
BEGIN:STANDARD
TZOFFSETFROM:-0400
TZOFFSETTO:-0500
TZNAME:EST
DTSTART:20261101T060000
END:STANDARD
BEGIN:DAYLIGHT
TZOFFSETFROM:-0500
TZOFFSETTO:-0400
TZNAME:EDT
DTSTART:20270314T070000
END:DAYLIGHT
BEGIN:STANDARD
TZOFFSETFROM:-0400
TZOFFSETTO:-0500
TZNAME:EST
DTSTART:20271107T060000
END:STANDARD
END:VTIMEZONE
BEGIN:VEVENT
DTSTART;TZID=America/New_York:20260424T110000
DTEND;TZID=America/New_York:20260613T160000
DTSTAMP:20260424T035902
CREATED:20260120T181651Z
LAST-MODIFIED:20260120T181651Z
UID:10043916-1777028400-1781366400@www.artsatl.org
SUMMARY:Attend INNER VIEWS Art Exhibition
DESCRIPTION:“Inner Views” is a collective musing on home\, family\, and community by a group of Fourteen contemporary artists. \nIn the show\, artists from varying cultures and artistic traditions use a range of different mediums to express personal ideas about domesticity and beyond. \n*Participating artists: Ariel Dannielle; Brill Adium; Chloe Alexander; Demetri Burke; Samuel Dunson; Jurell Cayetano; Gerald Lovell; Jennifer Mack-Watkins; Tyreek Morrison; Petie Parker; Paper Frank; Mario Petrirena; Honey Pierre; Michael Reese \n*One Contemporary Gallery is open Fridays & Saturdays from 11:00am-5:00pm (OR by appointment) \nADDRESS: 395 Edgewood Ave\, Atlanta\, GA 30312
URL:https://www.artsatl.org/event/attend-inner-views-art-exhibition/2026-04-24/
LOCATION:One Contemporary Gallery\, 395 Edgewood Ave. SE\, Atlanta\, 30312
CATEGORIES:Art + Design,Books
ATTACH;FMTTYPE=image/png:https://www.artsatl.org/wp-content/uploads/Copy-of-Copy-of-Views.png
END:VEVENT
END:VCALENDAR